BEGIN:VCALENDAR
VERSION:2.0
BEGIN:VEVENT
URL:https://www.networkinaction.com/index.php/events/viewevent/6581-lakeway-launch-learn?groupid=152 
DTSTART:20220302T153000
DTEND:20220420T170000
SUMMARY:Lakeway Launch & Learn
RRULE:FREQ=MONTHLY;UNTIL=20230119T000000
DESCRIPTION:
LOCATION:The Gramercy -  1516 Ranch Rd 620 S Building F, Suite 200, Lakeway, TX 78734
END:VEVENT
END:VCALENDAR