BEGIN:VCALENDAR
VERSION:2.0
BEGIN:VEVENT
URL:https://www.networkinaction.com/index.php/events/viewevent/6554-network-with-the-nation-1-30-pm-3-00-pm-pst?groupid=178 
DTSTART:20211215T133000
DTEND:20211215T150000
SUMMARY:Network With The Nation | 1:30 PM - 3:00 PM PST
DESCRIPTION:Go to https://www.eventbrite.com/e/network-with-the-nation-december-15-330-pm-to-500-pm-cst-tickets-185004000947 here to learn more about this event!

Join us on Zoom at www.ZoomWithNIA.com!

We hope to see you there!
LOCATION:www.ZoomWithNIA.com
END:VEVENT
END:VCALENDAR