BEGIN:VCALENDAR
VERSION:2.0
BEGIN:VEVENT
URL:https://www.networkinaction.com/index.php/events/viewevent/6538-network-with-the-nation-2-30-pm-4-00-pm-mst?groupid=94 
DTSTART:20211215T143000
DTEND:20211215T160000
SUMMARY:Network With The Nation | 2:30 PM - 4:00 PM MST 
DESCRIPTION:Go to https://www.eventbrite.com/e/network-with-the-nation-december-15-330-pm-to-500-pm-cst-tickets-185004000947 here to learn more about this event!

Join us on Zoom at www.ZoomWithNIA.com!

We hope to see you there!
LOCATION:www.ZoomWithNIA.com
END:VEVENT
END:VCALENDAR