BEGIN:VCALENDAR
VERSION:2.0
BEGIN:VEVENT
URL:https://www.networkinaction.com/index.php/events/viewevent/6508-network-with-the-nation-4-30-pm-6-00-pm-est?groupid=133 
DTSTART:20211215T163000
DTEND:20211215T180000
SUMMARY:Network With The Nation | 4:30 PM - 6:00 PM EST
DESCRIPTION:Go to https://www.eventbrite.com/e/network-with-the-nation-december-15-330-pm-to-500-pm-cst-tickets-185004000947 here to learn more about this event!

Join us on Zoom at www.ZoomWithNIA.com!

We hope to see you there!
LOCATION:www.ZoomWithNIA.com
END:VEVENT
END:VCALENDAR