BEGIN:VCALENDAR
VERSION:2.0
BEGIN:VEVENT
URL:https://www.networkinaction.com/index.php/events/viewevent/6460-network-with-the-nation-3-30-pm-5-00-pm-cst?groupid=140 
DTSTART:20211215T153000
DTEND:20211215T170000
SUMMARY:Network With The Nation | 3:30 PM - 5:00 PM CST
DESCRIPTION:Go to https://www.eventbrite.com/e/network-with-the-nation-december-15-330-pm-to-500-pm-cst-tickets-185004000947 here to learn more about this event!

Join us on Zoom at www.ZoomWithNIA.com!

We hope to see you there!
LOCATION:www.ZoomWithNIA.com
END:VEVENT
END:VCALENDAR