BEGIN:VCALENDAR
VERSION:2.0
BEGIN:VEVENT
URL:https://www.networkinaction.com/index.php/events/viewevent/6357-holiday-mixer-monthly-meeting-4-00-pm-to-7-30-pm?groupid=1 
DTSTART:20211209T160000
DTEND:20211209T193000
SUMMARY:Holiday Mixer Monthly Meeting 4:00 pm to 7:30 pm 
DESCRIPTION:<p>Please rsvp here and feel free to bring a significant other as well as gift for raffle </p><br /><p>https://www.eventbrite.com/e/nia-holiday-mixer-tickets-209516247737</p>
LOCATION:https://www.eventbrite.com/e/nia-holiday-mixer-tickets-209516247737
END:VEVENT
END:VCALENDAR