BEGIN:VCALENDAR
VERSION:2.0
BEGIN:VEVENT
URL:https://www.networkinaction.com/index.php/events/viewevent/6335-november-tri-group-happy-hour?groupid=77 
DTSTART:20211130T170000
DTEND:20211130T190000
SUMMARY:November Tri-Group Happy Hour
DESCRIPTION:<p>Join all of our terrific Business Force members and grow your network at our November all group happy hour.  We always have a great time and build even stronger relationships at our social gatherings.  You will want to be there!
</p>
<p>We look forward to seeing you!</p>
LOCATION:Bar Louie, 16089 City Walk, Sugar Land, TX 77479
END:VEVENT
END:VCALENDAR