BEGIN:VCALENDAR
VERSION:2.0
BEGIN:VEVENT
URL:https://www.networkinaction.com/index.php/events/viewevent/6333-november-business-force-happy-hour?groupid=147 
DTSTART:20211130T170000
DTEND:20211130T190000
SUMMARY:November Business Force Happy Hour
DESCRIPTION:<p>Join all of our terrific Business Force members and grow your network at our November all group happy hour.  We always have a great time and build even stronger relationships at our social gatherings.  You will want to be there!</p>We look forward to seeing you!
LOCATION:Bar Louie, 16089 City Walk, Sugar Land, TX 77479
END:VEVENT
END:VCALENDAR