BEGIN:VCALENDAR
VERSION:2.0
BEGIN:VEVENT
URL:https://www.networkinaction.com/index.php/events/viewevent/6315-cy-fair-connectors-charity-event?groupid=12 
DTSTART:20211202T081500
DTEND:20211202T120000
SUMMARY:Cy-Fair Connectors Charity Event
DESCRIPTION:<p>Our charity event of the year, "Lighthouse for Students", thanks to Jerid and Matt, will allow us to come together as a group to serve others.  We will be directing traffic, directing people where to go, taking food from the trailer to place on tables.  Distributing the food to the students and their families, and of course, clean up.  </p><p>Please park on the Scott street entrance.</p><p>In lieu of Christmas gifts this year, we have opted to donate hygiene items to "Lighthouse for Students".   In the past, we have purchased gifts for each other in the amount of $25.00, please spend this on the hygiene items instead!  Please bring with you to the charity event, hygiene items, deodorant, toothpaste and soap, bars or liquid, also female hygiene products, tampons, and/or pads.  
</p><p>They can also uses clothing items, coats, boots, hoodies.   Make sure these items have no writing on them!</p><p>Please contact me with any questions.</p>



LOCATION:Worthington High School, 9215 Scott St, Houston, 77051
END:VEVENT
END:VCALENDAR