BEGIN:VCALENDAR
VERSION:2.0
BEGIN:VEVENT
URL:https://www.networkinaction.com/index.php/events/viewevent/6307-launch-n-learn-with-nia-on-december-9th-3-30pm?groupid=136 
DTSTART:20211209T153000
DTEND:20211209T163000
SUMMARY:Launch 'n Learn with NIA on December 9th @ 3:30pm
DESCRIPTION:Learn the NIA difference! Join us virtually on Thursday, December 9th @ 3:30pm for an informational session to discover more about Network in Action coming to South Florida.
LOCATION:https://bit.ly/LaunchnLearnwithNIA-Dec9th
END:VEVENT
END:VCALENDAR