BEGIN:VCALENDAR
VERSION:2.0
BEGIN:VEVENT
URL:https://www.networkinaction.com/index.php/events/viewevent/6228-nia-end-of-year-mixer?groupid=133 
DTSTART:20211201T180000
DTEND:20211201T200000
SUMMARY:NIA - End of Year Mixer
DESCRIPTION:<p>You and your guest(s) are invited to join me as we celebrate the season at this End-of-the-Year Mixer where we will network and collaborate on how we will move forward and grow our businesses in the New Year!  We have some awesome business leaders in our groups and I am excited for you to learn more about each other.</p><p>Join me at Parc Restaurant located at the Frenchman's Reserve Country Club in Palm Beach Gardens, FL.  Also, please RSVP by Monday, November 29th for a firm headcount. </p><p>Looking forward to seeing you there! </p>
LOCATION:Parc Restaurant, 3370 Grand Corniche, Palm Beach Gardens, FL  33410
END:VEVENT
END:VCALENDAR