BEGIN:VCALENDAR
VERSION:2.0
BEGIN:VEVENT
URL:https://www.networkinaction.com/index.php/events/viewevent/6100-network-with-the-nation-3-30-pm-to-5-00-pm-cst?groupid=1 
DTSTART:20211117T153000
DTEND:20211117T170000
SUMMARY:Network With The Nation | 3:30 pm to 5:00 pm CST
DESCRIPTION:Your chance to connect with members across the country!

Click here to learn more about this event: https://www.eventbrite.com/e/network-with-the-nation-november-17-330-pm-to-500-pm-cst-tickets-185001613807

Join us on Zoom at www.ZoomWithNIA.com!

We hope to see you there!
LOCATION:www.ZoomWithNIA.com
END:VEVENT
END:VCALENDAR