BEGIN:VCALENDAR
VERSION:2.0
BEGIN:VEVENT
URL:https://www.networkinaction.com/index.php/events/viewevent/6060-network-with-the-nation-1-30-pm-3-00-pm-pst?groupid=72 
DTSTART:20211117T133000
DTEND:20211117T150000
SUMMARY:Network With The Nation | 1:30 PM - 3:00 PM PST
DESCRIPTION:Your chance to connect with members across the country!

To learn more about this event go here https://www.eventbrite.com/e/network-with-the-nation-november-17-330-pm-to-500-pm-cst-tickets-185001613807

Join us on Zoom at www.ZoomWithNIA.com!

We hope to see you there!
LOCATION:https://www.ZoomWithNIA.com
END:VEVENT
END:VCALENDAR