BEGIN:VCALENDAR
VERSION:2.0
BEGIN:VEVENT
URL:https://www.networkinaction.com/index.php/events/viewevent/6044-nia-realtor-relocation-meeting-new-kick-off-8-30-pst-10-30-cst-11-30-est?groupid=112 
DTSTART:20211208T103000
DTEND:20211208T120000
SUMMARY:NIA REALTOR RELOCATION MEETING NEW KICK OFF!  8:30 PST, 10:30 CST 11:30 EST
DESCRIPTION:<p>Go to www.zoomwithniatc.com or meeting ID number 874 409 0063.</p><p>kimt@networkinaction.com</p><br /><p>If you are interested in being in this elite group of REALTORS, you will not want to miss this meeting!  We are relaunching going forward on what our vision is for this group!</p><br /><p>You never know when a client needs a great referral in a another city! 
</p><p><br /></p><p>11:30, EST, 10:30 CST, 8:30 PST</p>



LOCATION:www.zoomwithniatc.com
END:VEVENT
END:VCALENDAR