BEGIN:VCALENDAR
VERSION:2.0
BEGIN:VEVENT
URL:https://www.networkinaction.com/index.php/events/viewevent/6034-nia-monthly-meeting?groupid=49 
DTSTART:20211111T160000
DTEND:20211111T173000
SUMMARY:NIA - Monthly Meeting
DESCRIPTION:<p>See you Thursday!</p>
LOCATION:Carrabba's on Tyrone Blvd
END:VEVENT
END:VCALENDAR