BEGIN:VCALENDAR
VERSION:2.0
BEGIN:VEVENT
URL:https://www.networkinaction.com/index.php/events/viewevent/6033-network-in-action-meeting?groupid=174 
DTSTART:20211109T160000
DTEND:20211109T173000
SUMMARY:Network in Action Meeting
DESCRIPTION:
LOCATION:14576 SW 5th Street Pemrboke Pines 33027
END:VEVENT
END:VCALENDAR