BEGIN:VCALENDAR
VERSION:2.0
BEGIN:VEVENT
URL:https://www.networkinaction.com/index.php/events/viewevent/6017-november-monthly-meeting?groupid=147 
DTSTART:20211111T150000
DTEND:20211111T163000
SUMMARY:November Monthly Meeting
DESCRIPTION:<p>November is NIA National Bring a Friend Month!
</p>
<p>Come join our Veterans Business Force members and bring a friend with you.  We already have a great group, and you can help us grow and build our group even stronger.  We look forward to enhancing our relationships and building new ones with your guests!
</p><p>See you there!</p>

LOCATION:Lupe Tortilla, 9313 Katy Freeway
END:VEVENT
END:VCALENDAR