BEGIN:VCALENDAR
VERSION:2.0
BEGIN:VEVENT
URL:https://www.networkinaction.com/index.php/events/viewevent/6016-november-monthly-meeting?groupid=140 
DTSTART:20211110T150000
DTEND:20211110T163000
SUMMARY:November Monthly Meeting
DESCRIPTION:<p>November is NIA National Bring a Friend Month!
</p>
<p>Come join our Sugar Land Business Force members and bring a friend with you.  We already have a great group, and you can help us grow and build our group even stronger.  We look forward to enhancing our relationships and building new ones with your guests!
</p><p>See you there!</p>

LOCATION:Churrascos, 1520 Lake Pointe Pkwy, Ste 500, Sugar Land, TX 77478
END:VEVENT
END:VCALENDAR