BEGIN:VCALENDAR
VERSION:2.0
BEGIN:VEVENT
URL:https://www.networkinaction.com/index.php/events/viewevent/6013-virtual-happy-hour?groupid=196 
DTSTART:20211110T153000
DTEND:20211110T163000
SUMMARY:Virtual Happy Hour 
DESCRIPTION:<p>Let's stay connected and learn more about each other.  </p><p>Beth Vosmeier is inviting you to a scheduled Zoom meeting.</p><br /><p>Topic: Beth Vosmeier's Zoom NIA Meeting</p><p>Time: Nov 10, 2021 03:30 PM Pacific Time (US and Canada)</p><br /><p>Join Zoom Meeting</p><p>https://us02web.zoom.us/j/87971488732?pwd=WFI1ZllxTFVLN2xVdUZYOGQ0anQ3UT09</p><br /><p>Meeting ID: 879 7148 8732</p><p>Passcode: 686734</p><p>One tap mobile</p><p>+12532158782,,87971488732#,,,,*686734# US (Tacoma)</p><p>+13462487799,,87971488732#,,,,*686734# US (Houston)</p><br /><p>Dial by your location</p><p>        +1 253 215 8782 US (Tacoma)</p><p>        +1 346 248 7799 US (Houston)</p><p>        +1 669 900 6833 US (San Jose)</p><p>        +1 929 205 6099 US (New York)</p><p>        +1 301 715 8592 US (Washington DC)</p><p>        +1 312 626 6799 US (Chicago)</p><p>Meeting ID: 879 7148 8732</p><p>Passcode: 686734</p><p>Find your local number: https://us02web.zoom.us/u/keqOvsIQmc</p><br />
<br /><br />
LOCATION:Zoom Happy Hour 
END:VEVENT
END:VCALENDAR