BEGIN:VCALENDAR
VERSION:2.0
BEGIN:VEVENT
URL:https://www.networkinaction.com/index.php/events/viewevent/6012-virtual-happy-hour?groupid=198 
DTSTART:20211111T153000
DTEND:20211111T163000
SUMMARY:Virtual Happy Hour 
DESCRIPTION:<p>Let's stay connected and get to know each other. </p><br /><p>Beth Vosmeier is inviting you to a scheduled Zoom meeting.
</p>
<p>Topic: Beth Vosmeier's Zoom Plateau  Meeting
</p><p>Time: Nov 11, 2021 03:30 PM Pacific Time (US and Canada)
</p><p>Join Zoom Meeting
</p><p>https://us02web.zoom.us/j/88603829309?pwd=M1REZzh5b0dXV2ovL2x1cjd5VFdWdz09
</p><p>Meeting ID: 886 0382 9309
</p><p>Passcode: 557931
</p><p>One tap mobile
</p><p>+12532158782,,88603829309#,,,,*557931# US (Tacoma)
</p><p>+16699006833,,88603829309#,,,,*557931# US (San Jose)
</p><p>Dial by your location
</p><p>        +1 253 215 8782 US (Tacoma)
</p><p>        +1 669 900 6833 US (San Jose)
</p><p>        +1 346 248 7799 US (Houston)
</p><p>        +1 312 626 6799 US (Chicago)
</p><p>        +1 929 205 6099 US (New York)
</p><p>        +1 301 715 8592 US (Washington DC)
</p><p>Meeting ID: 886 0382 9309
</p><p>Passcode: 557931
</p><p>Find your local number: https://us02web.zoom.us/u/kbTvNvFTMq
</p><br />




LOCATION:Zoom Happy Hour 
END:VEVENT
END:VCALENDAR