BEGIN:VCALENDAR
VERSION:2.0
BEGIN:VEVENT
URL:https://www.networkinaction.com/index.php/events/viewevent/6008-november-meeting?groupid=154 
DTSTART:20211117T150000
DTEND:20211117T163000
SUMMARY:November meeting
DESCRIPTION:
LOCATION:Monk's Cellar
END:VEVENT
END:VCALENDAR