BEGIN:VCALENDAR
VERSION:2.0
BEGIN:VEVENT
URL:https://www.networkinaction.com/index.php/events/viewevent/6003-monthly-meeting?groupid=154 
DTSTART:20211101T150000
DTEND:20211101T163000
SUMMARY:Monthly Meeting
DESCRIPTION:
LOCATION:Monk's Cellar
END:VEVENT
END:VCALENDAR