BEGIN:VCALENDAR
VERSION:2.0
BEGIN:VEVENT
URL:https://www.networkinaction.com/index.php/events/viewevent/5987-launch-n-learn-with-nia?groupid=133 
DTSTART:20211109T153000
DTEND:20211109T163000
SUMMARY:Launch 'n Learn with NIA
DESCRIPTION:<p>Come, network, and bring a friend to our next virtual Launch 'n Learn with NIA on Tuesday, November 9th at 3:30pm.  Here is the link for your convenience:  https://bit.ly/LaunchnLearn-Nov9th.</p>
LOCATION:https://bit.ly/LaunchnLearn-Nov9th
END:VEVENT
END:VCALENDAR