BEGIN:VCALENDAR
VERSION:2.0
BEGIN:VEVENT
URL:https://www.networkinaction.com/index.php/events/viewevent/5969-cy-fair-connectors-december-meeting?groupid=12 
DTSTART:20211221T150000
DTEND:20211221T163000
SUMMARY:Cy-Fair Connectors December Meeting
DESCRIPTION:
LOCATION:Salt Grass Steak House, 23952 Northwest Freeway, Cypress, 77429
END:VEVENT
END:VCALENDAR