BEGIN:VCALENDAR
VERSION:2.0
BEGIN:VEVENT
URL:https://www.networkinaction.com/index.php/events/viewevent/5952-this-thursday-the-future-of-your-networking-3-00-to-4-15?groupid=1 
DTSTART:20211028T150000
DTEND:20211028T161500
SUMMARY:This Thursday The Future of Your Networking - 3:00 to 4:15...
DESCRIPTION:<p>Here from a panel of networking experts including co-founder of Alignable, co-founder of V50 and NIA Founder Scott Talley.
</p>
<p>Let s face it in todays world we all need to know the do's and don'ts of both in person and on line networking. Get all the answers in this short interactive session.
</p><p>Our guest panel will include Venkat Krishnamurthy President & Co-Founder of Alignable the largest on line networking organization in the world.
</p><p>Also joining us will be the founder of V5O, a Manhattan based on line platform connecting business owners in The Big apple. V5O (Virtual 5 O’Clock) is an exclusive membership-based online networking community of thought leaders, entrepreneurs, business heads, and trusted advisors founded during the COVID-19 pandemic. </p>


LOCATION:www.zoomwithnia.com
END:VEVENT
END:VCALENDAR