BEGIN:VCALENDAR
VERSION:2.0
BEGIN:VEVENT
URL:https://www.networkinaction.com/index.php/events/viewevent/5951-nia-mixer-at-caddy-s-gulfport-4pm?groupid=49 
DTSTART:20211028T160000
DTEND:20211028T173000
SUMMARY:NIA - Mixer at Caddy's Gulfport 4pm
DESCRIPTION:<p>Join us for good company and networking!</p>
LOCATION:Caddy's Gulfport - 3128 Beach Blvd S, Gulfport FL
END:VEVENT
END:VCALENDAR