BEGIN:VCALENDAR
VERSION:2.0
BEGIN:VEVENT
URL:https://www.networkinaction.com/index.php/events/viewevent/5949-next-level-networking-november-meeting?groupid=86 
DTSTART:20211110T160000
DTEND:20211110T180000
SUMMARY:Next Level Networking November Meeting
DESCRIPTION:This is a unique event for November. It is a Happy Hour, Speed Networking and NIA outreach event. It will be held at Amy Jorgensen office complex in the Tatum Conference Room. My members are incouraged to bring extra business cards and flyers about your business to share with the visitors.
LOCATION:11811 N Tatum Blvd. Ste. 1050  Phoenix, AZ 85028
END:VEVENT
END:VCALENDAR