BEGIN:VCALENDAR
VERSION:2.0
BEGIN:VEVENT
URL:https://www.networkinaction.com/index.php/events/viewevent/5925-monthly-nia-greenway-meeting?groupid=68 
DTSTART:20211111T153000
DTEND:20211111T170000
SUMMARY:Monthly NIA Greenway Meeting
DESCRIPTION:
LOCATION:10333 Richmond Ave, Suite 430
END:VEVENT
END:VCALENDAR