BEGIN:VCALENDAR
VERSION:2.0
BEGIN:VEVENT
URL:https://www.networkinaction.com/index.php/events/viewevent/5924-monthly-nia-midtown-meeting?groupid=66 
DTSTART:20211109T160000
DTEND:20211109T173000
SUMMARY:Monthly NIA Midtown Meeting
DESCRIPTION:
LOCATION:Online and 10333 Richmond Avenue, Suite 450
END:VEVENT
END:VCALENDAR