BEGIN:VCALENDAR
VERSION:2.0
BEGIN:VEVENT
URL:https://www.networkinaction.com/index.php/events/viewevent/5916-network-with-the-nation?groupid=136 
DTSTART:20211027T163000
DTEND:20211027T180000
SUMMARY:Network with the Nation
DESCRIPTION:<p>Join us for the NIA's all-new nation-wide networking opportunity. This month-to-month event is available to all NIA members, no matter where you are on the map. Join us for the chance to connect with professionals looking to network outside their locality.</p>
LOCATION:www.zoomwithnia.com
END:VEVENT
END:VCALENDAR