BEGIN:VCALENDAR
VERSION:2.0
BEGIN:VEVENT
URL:https://www.networkinaction.com/index.php/events/viewevent/5908-all-events-how-can-alignable-help-you-dine-learn-social-for-harford-county-md-business-owners?groupid=139 
DTSTART:20211020T173000
DTEND:20211020T193000
SUMMARY:  « All Events How Can Alignable Help YOU? Dine & Learn Social for Harford County, MD Business Owners
DESCRIPTION:Alignable’s Sue Brooke returns to Bel Air, MD to share pro tips for growing your business using America’s fastest growing online platform. You’ll come away with powerful connections and easy-to-implement ideas for attracting prospects to YOU.

The event is free to attend. You just need to pay for your own meal and beverage and RSVP right away as seating is limited.
LOCATION:510 Johnnys
END:VEVENT
END:VCALENDAR