BEGIN:VCALENDAR
VERSION:2.0
BEGIN:VEVENT
URL:https://www.networkinaction.com/index.php/events/viewevent/5897-october-tri-group-happy-hour?groupid=140 
DTSTART:20211015T170000
DTEND:20211015T211500
SUMMARY:October Tri-Group Happy Hour
DESCRIPTION:<p>Come out and join all of our fantastic Business Force members for our October all-group happy hour.  This will be a very special event as we are hosting a benefit concert for U.S. Vets-Houston to wrap up our community project.  Our headliner is none other than our own Will Carter!  Our opener, Kate Watson,  was a contestant on American Idol in 2019.
</p>
<p>We will have a great show, and a great time, for a great cause!  </p>
LOCATION:McIntyre's Downtown, 901 Commerce St, Houston, TX 77002
END:VEVENT
END:VCALENDAR