BEGIN:VCALENDAR
VERSION:2.0
BEGIN:VEVENT
URL:https://www.networkinaction.com/index.php/events/viewevent/5889-lake-travis-launch-learn?groupid=185 
DTSTART:20211027T150000
DTEND:20211027T163000
SUMMARY:Lake Travis Launch & Learn
DESCRIPTION:
LOCATION:The League Kitchen & Tavern (Hill Country Galleria) - 13420 Galleria Circle Suite A-128 Bee Cave, TX 78738
END:VEVENT
END:VCALENDAR