BEGIN:VCALENDAR
VERSION:2.0
BEGIN:VEVENT
URL:https://www.networkinaction.com/index.php/events/viewevent/5883-nationwide-realtor-network-8-30-pst-10-30-cst-11-30-est?groupid=112 
DTSTART:20211110T103000
DTEND:20211110T113000
SUMMARY:Nationwide Realtor Network!  8:30 PST, 10:30 CST, 11:30 EST
DESCRIPTION:<p>You never know when a client needs a great referral in a another city! </p><p>www.zoomwithniatc.com</p><br /><p>11:30, EST, 10:30 CST, 8:30 PST</p><br /><p>Go to www.zoomwithniatc.com or meeting ID number 874 409 0063.</p>
LOCATION:www.zoomwithniatc.com
END:VEVENT
END:VCALENDAR