BEGIN:VCALENDAR
VERSION:2.0
BEGIN:VEVENT
URL:https://www.networkinaction.com/index.php/events/viewevent/5870-october-zoom-meeting?groupid=139 
DTSTART:20211014T153000
DTEND:20211014T170000
SUMMARY:October Zoom Meeting
DESCRIPTION:
LOCATION:www.ZoomWithJoryFisher.com
END:VEVENT
END:VCALENDAR