BEGIN:VCALENDAR
VERSION:2.0
BEGIN:VEVENT
URL:https://www.networkinaction.com/index.php/events/viewevent/5859-cypress-monthly-meeting-for-october?groupid=11 
DTSTART:20211021T153000
DTEND:20211021T170000
SUMMARY:Cypress Monthly Meeting for October
DESCRIPTION:This month we celebrate the arrival of autumn with a lively agenda and new guests to welcome! Change of venue to Ambriza in Boardwalk,Towne Lake! Member attendance is MANDATORY! RSVP to Rich at (713)705-6095
LOCATION:Ambriza, 9945 Barker-Cypress Rd., Unit 123, Cypress, TX 77433
END:VEVENT
END:VCALENDAR