BEGIN:VCALENDAR
VERSION:2.0
BEGIN:VEVENT
URL:https://www.networkinaction.com/index.php/events/viewevent/5858-november-10th-monthly-meeting-and-visitor-event?groupid=14 
DTSTART:20211110T153000
DTEND:20211110T170000
SUMMARY:November 10th Monthly Meeting and Visitor Event
DESCRIPTION:<p>November's theme is a heart of Gratitude! . We have a great networking activity. November is also bring a guest a month,  including non- profits. </p><p>https://www.eventbrite.com/e/central-business-networking-and-visitor-event-tickets-191467944777</p><p>Non-profit memberships are complimentary. </p><br /><p>Please RSVP!</p><br /><p>Look forward to seeing you soon.  </p><br /><br /><br />
LOCATION:Warehouse 72, 7620 Katy Fwy #305, Houston, TX 77024
END:VEVENT
END:VCALENDAR