BEGIN:VCALENDAR
VERSION:2.0
BEGIN:VEVENT
URL:https://www.networkinaction.com/index.php/events/viewevent/5841-launch-n-learn-with-nia-on-thursday-october-14th-3-30pm-est?groupid=136 
DTSTART:20211014T153000
DTEND:20211014T163000
SUMMARY:Launch 'n Learn with NIA on Thursday, October 14th @ 3:30pm EST
DESCRIPTION:<p>Learn the NIA difference! Join me virtually on Thursday, October 14th @ 3:30pm for an informational session to discover more about Network in Action in South Florida.
</p>
<p>I am looking to collaborate with serious professionals and business owners who want to grow their businesses intentionally through a network of like-minded individuals.
</p><p>No other networking organization in the country offers a guarantee on your membership investment!  Find out exactly how much we will guarantee you!
</p><br />

LOCATION:https://bit.ly/LaunchnLearn-Oct14th
END:VEVENT
END:VCALENDAR