BEGIN:VCALENDAR
VERSION:2.0
BEGIN:VEVENT
URL:https://www.networkinaction.com/index.php/events/viewevent/5830-bring-a-fellow-business-owner-month?groupid=12 
DTSTART:20211116T150000
DTEND:20211116T163000
SUMMARY: Bring a Fellow Business Owner Month!
DESCRIPTION:<br /><p>November is "Bring a Fellow Business Owner" month!</p><p>As great as this group is and you all are great, imagine if we all bring a guest as a potential member to next months’ meeting? We could be networking with 20 plus people in 2022! I promise we will not pressure or stalk anyone who attends but we will let them experience the greatest group of people in Cypress! 
</p>

<p>Please start thinking now and get the meeting on their calendar. You could sit back and let others participate but that is not who you are. Taking care of this assignment shows the others in the group what a trusted referral partner you are. 
</p><br />
LOCATION:Salt Grass Steak House, 23952 Northwest Freeway, Cypress, 77429
END:VEVENT
END:VCALENDAR