BEGIN:VCALENDAR
VERSION:2.0
BEGIN:VEVENT
URL:https://www.networkinaction.com/index.php/events/viewevent/5827-october-monthly-meeting?groupid=147 
DTSTART:20211014T150000
DTEND:20211014T163000
SUMMARY:October Monthly Meeting
DESCRIPTION:<p>Join NIA SLBF for our monthly meeting and mingle with our terrific members. As always, we have a great meeting planned. See you there!</p>
LOCATION:Lupe Tortilla, 9313 Katy Freeway
END:VEVENT
END:VCALENDAR