BEGIN:VCALENDAR
VERSION:2.0
BEGIN:VEVENT
URL:https://www.networkinaction.com/index.php/events/viewevent/5826-october-monthly-meeting?groupid=140 
DTSTART:20211013T150000
DTEND:20211013T163000
SUMMARY:October Monthly Meeting
DESCRIPTION:<p>Join NIA SLBF for our monthly meeting and mingle with our terrific members.  As always, we have a great meeting planned.  See you there!</p>
LOCATION:Churrascos, 1520 Lake Pointe Pkwy, Ste 500, Sugar Land, TX 77478
END:VEVENT
END:VCALENDAR