BEGIN:VCALENDAR
VERSION:2.0
BEGIN:VEVENT
URL:https://www.networkinaction.com/index.php/events/viewevent/5825-october-monthly-meeting?groupid=77 
DTSTART:20211012T150000
DTEND:20211012T163000
SUMMARY:October Monthly Meeting
DESCRIPTION:Join NIA WBF for our monthly meeting and mingle with our terrific members.  As always, we have a great meeting planned.  See you there!
LOCATION:Lupe Tortilla, 9313 Katy Freeway
END:VEVENT
END:VCALENDAR