BEGIN:VCALENDAR
VERSION:2.0
BEGIN:VEVENT
URL:https://www.networkinaction.com/index.php/events/viewevent/5822-this-event-has-been-cancelled?groupid=12 
DTSTART:20211012T183000
DTEND:20211012T193000
SUMMARY:This Event has been cancelled.
DESCRIPTION:<br /><p>Want to know what the market forecast looks like?
</p><p>Does it make sense to refinance your home to achieve some personal goals?
</p><p>Just need a referral to a great contractor for a home improvement project?
</p><p>Join us for a fun, casual, and FREE opportunity to get answers to any and all of your questions.</p>



LOCATION:Saltgrass Steak House, 23952 Northwest Freeway, Cypress, TX 77429
END:VEVENT
END:VCALENDAR