BEGIN:VCALENDAR
VERSION:2.0
BEGIN:VEVENT
URL:https://www.networkinaction.com/index.php/events/viewevent/5821-monthly-meeting-midtown?groupid=66 
DTSTART:20211004T160000
DTEND:20211012T173000
SUMMARY:Monthly Meeting - Midtown
DESCRIPTION:Let's Talk About the Future of Networking!!
LOCATION:Zoom.us, Mtg ID 7136780468; Fuse Workspace, 12848 Queensbury
END:VEVENT
END:VCALENDAR