BEGIN:VCALENDAR
VERSION:2.0
BEGIN:VEVENT
URL:https://www.networkinaction.com/index.php/events/viewevent/5820-monthly-meeting-greenway?groupid=68 
DTSTART:20211014T153000
DTEND:20211014T170000
SUMMARY:Monthly Meeting -Greenway
DESCRIPTION:Let's talk abut the Future of Networking.
LOCATION:Zoom.us; Meeting ID 7136780468; 10333 Richmond, Suite 430
END:VEVENT
END:VCALENDAR