BEGIN:VCALENDAR
VERSION:2.0
BEGIN:VEVENT
URL:https://www.networkinaction.com/index.php/events/viewevent/5813-nia-monthly-meeting?groupid=49 
DTSTART:20211007T160000
DTEND:20211007T173000
SUMMARY:NIA - Monthly Meeting
DESCRIPTION:<p>This is our official monthly meeting. Please make time to attend or send a sub. Thanks!</p>
LOCATION:Carrabba's on Tyrone Blvd
END:VEVENT
END:VCALENDAR