BEGIN:VCALENDAR
VERSION:2.0
BEGIN:VEVENT
URL:https://www.networkinaction.com/index.php/events/viewevent/5791-monthly-mastermind?groupid=46 
DTSTART:20211014T113000
DTEND:20211014T130000
SUMMARY:Monthly Mastermind
DESCRIPTION:<p>***NEW LOCATION***</p><p>We are changing up the location for this meeting. It will now be at the Salt Traders Coastal Cooking off I-35 instead of Cork & Barrel.</p>We look forward to seeing everyone at this first official meeting since the merger!
LOCATION:Salt Traders 2850 N Interstate Hwy 35, Round Rock, TX 78681
END:VEVENT
END:VCALENDAR