BEGIN:VCALENDAR
VERSION:2.0
BEGIN:VEVENT
URL:https://www.networkinaction.com/index.php/events/viewevent/5779-cougar-connection-october-6th-monthly-meeting-and-visitor-event?groupid=14 
DTSTART:20211006T153000
DTEND:20211006T170000
SUMMARY:COUGAR CONNECTION OCTOBER 6TH MONTHLY MEETING AND VISITOR EVENT
DESCRIPTION:<p>October monthly meeting and visitor event</p><p>Join us to network, meet new members and guests!</p><p>Should you know of a great nonprofit organization to join our group please invite.  All guests are welcome.  You can also share the link below for your guests to register.</p><br /><p><br /></p><br /><p>https://www.eventbrite.com/e/houston-central-business-networking-and-visitor-event-tickets-180454352827</p>
LOCATION:WAREHOUSE 72  7620 Katy Fwy #305, Houston, TX 77024
END:VEVENT
END:VCALENDAR