BEGIN:VCALENDAR
VERSION:2.0
BEGIN:VEVENT
URL:https://www.networkinaction.com/index.php/events/viewevent/5762-october-monthly-meeting?groupid=154 
DTSTART:20211020T150000
DTEND:20211020T163000
SUMMARY:October monthly meeting
DESCRIPTION:
LOCATION:Roseville, TBD
END:VEVENT
END:VCALENDAR