BEGIN:VCALENDAR
VERSION:2.0
BEGIN:VEVENT
URL:https://www.networkinaction.com/index.php/events/viewevent/5731-growthclub-with-guest-speaker-andy-erskine 
DTSTART:20210925T090000
DTEND:20210925T103000
SUMMARY:GrowthCLUB with Guest Speaker Andy Erskine
DESCRIPTION:<p>Starting the day off we will host an open session featuring Key Note Speaker Andy Erskine. Following Andy's talk on "Learn  How to Value Your Business" there will be an opportunity to network and trade ideas with fellow business owners through breakout rooms.
</p><br />
LOCATION:Zoom Event
END:VEVENT
END:VCALENDAR